BEGIN:VCALENDAR
VERSION:2.0
PRODID:-//Centre de Méditation Kadampa Metz - ECPv6.15.20//NONSGML v1.0//EN
CALSCALE:GREGORIAN
METHOD:PUBLISH
X-ORIGINAL-URL:https://www.meditation-metz.org
X-WR-CALDESC:Évènements pour Centre de Méditation Kadampa Metz
REFRESH-INTERVAL;VALUE=DURATION:PT1H
X-Robots-Tag:noindex
X-PUBLISHED-TTL:PT1H
BEGIN:VTIMEZONE
TZID:UTC
BEGIN:STANDARD
TZOFFSETFROM:+0000
TZOFFSETTO:+0000
TZNAME:UTC
DTSTART:20250101T000000
END:STANDARD
END:VTIMEZONE
BEGIN:VEVENT
DTSTART;TZID=UTC:20260302T193000
DTEND;TZID=UTC:20260302T193000
DTSTAMP:20260419T224307
CREATED:20250105T215843Z
LAST-MODIFIED:20260203T191020Z
UID:6134-1772479800-1772479800@www.meditation-metz.org
SUMMARY:Conférence publique : Apaiser les relations toxiques
DESCRIPTION:En présentiel\nEn streaming sur YouTube avec le Pass méditation et le Pass streaming \nJe m’inscris en ligneJe m’inscris en ligneVous retrouvez-vous piégés dans des relations qui vous épuisent et vous étouffent ? Avez-vous sans cesse l’impression que vous avez fait quelque chose de mal que vous devez réparer pour apaiser la mauvaise humeur des autres ? \nCette conférence permettra de découvrir des conseils pour apprendre à poser nos limites\, retrouver notre liberté et transformer notre regard sur les autres. \nProfitez de ces soirées pour approfondir un thème et expérimenter les bienfaits de la méditation telle que nous la pratiquons dans notre école. Progressivement\, vous saurez repérer\, réduire et abandonner les états d’esprit stressants pour les remplacer par des états d’esprit paisibles et constructifs. \nNous commencerons avec une méditation guidée sur la respiration pour calmer l’esprit\, suivie de la conférence\, puis une méditation guidée sur le thème de la soirée et un questions réponses. \n Ceux qui le souhaitent peuvent rester discuter après la conférence autour d’une collation préparée par nos bénévoles. \nAvec l’enseignante principale\, Guèn Kelsang Konchog Enseignante expérimentée\, Guèn Kelsang Konchog est appréciée pour sa douceur et la clarté de ses enseignements\, les rendant accessibles à tous\, autant aux néophytes qu’aux méditants de longue date. \nElle enseigne l’atelier Sagesse et méditation les lundis soirs\, les événements du weekend\, le Programme de Fondation et le Programme de Formation des Enseignants. \nHoraires \n19h30 à 20h45\n\nParticipation suggérée \nParticipation suggérée : 10 € \n\n Personne n’est refusé pour manque d’argent.
URL:https://www.meditation-metz.org/evenement/conference-publique-amour-desir-et-dependance/
LOCATION:Centre de méditation Kadampa Metz\, 55 rue Jacques Chirac\, Metz\, 57000\, France
CATEGORIES:Conférence publique,Événement spécial
ATTACH;FMTTYPE=image/png:https://www.meditation-metz.org/wp-content/uploads/2025/01/Couv-apaiser-les-relations.png
END:VEVENT
END:VCALENDAR