BEGIN:VCALENDAR
VERSION:2.0
PRODID:-//Centre de Méditation Kadampa Metz - ECPv6.15.20//NONSGML v1.0//EN
CALSCALE:GREGORIAN
METHOD:PUBLISH
X-WR-CALNAME:Centre de Méditation Kadampa Metz
X-ORIGINAL-URL:https://www.meditation-metz.org
X-WR-CALDESC:Évènements pour Centre de Méditation Kadampa Metz
REFRESH-INTERVAL;VALUE=DURATION:PT1H
X-Robots-Tag:noindex
X-PUBLISHED-TTL:PT1H
BEGIN:VTIMEZONE
TZID:UTC
BEGIN:STANDARD
TZOFFSETFROM:+0000
TZOFFSETTO:+0000
TZNAME:UTC
DTSTART:20250101T000000
END:STANDARD
END:VTIMEZONE
BEGIN:VEVENT
DTSTART;TZID=UTC:20260209T193000
DTEND;TZID=UTC:20260209T210000
DTSTAMP:20260420T014702
CREATED:20240904T100016Z
LAST-MODIFIED:20260209T101850Z
UID:5414-1770665400-1770670800@www.meditation-metz.org
SUMMARY:Conférence au CMK : Lâcher prise : mode d'emploi
DESCRIPTION:En présentiel et streaming \n\nNombre de places limité\, réservation conseillée \nJe m’inscris en ligneJe m’inscris en ligne\nCHANGEMENT DE LIEU : AU CMK Metz 55 RUE JACQUES CHIRAC \nBesoin de tout contrôler ? Peur de l’inconnu ? Difficile de faire confiance aux autres ou de demander de l’aide ? Il est parfois bon de pouvoir lâcher-prise\, mais nos habitudes sont parfois bien difficiles à changer. Entamez cette découverte de votre propre esprit grâce aux techniques de méditation\, et découvrez la souplesse et le contrôle de l’esprit. \n \n\n\n\nSi vous êtes intéressés par les conférences bouddhistes\, deux autres conférences sont proposées les lundis :\n\n2 mars 2026 sur le thème : Libre du regard des autres\net le 4 mai 2026 sur le thème : Apaiser les relations toxiques\n\n\n\nTout le monde est le bienvenu\, événement ouvert à tous\, aucune expérience préalable n’est requise. \nAvec Guèn Kelsang Eupamé\, Directeur spirituel national de la Nouvelle Tradition Kadampa Guèn Kelsang Eupamé a commencé à étudier le bouddhisme à Paris en 1999. Il prend les vœux d’ordination et devient moine en 2000. En 2002\, il participe à la création d’un centre au Mans et devient également l’enseignant principal du centre de Nantes en 2003. Dans les années qui suivent\, il participe également à la création du centre de Rennes et enseigne dans d’autres villes de Bretagne jusqu’en 2007. Guéshé Kelsang Gyatso choisit alors le château de Segrais pour y établir le centre principal de la Nouvelle Tradition Kadampa en France et nomme Guèn Eupamé à la fois enseignant principal du CMK France et directeur spirituel national de la NTK. \nParticipation suggérée \nNormale : 15€ / Réduit* : 10€ \n\n* Réduit : Etudiants\, demandeurs d’emploi\, faibles revenus. Personne n’est refusé pour manque d’argent.
URL:https://www.meditation-metz.org/evenement/gerer-les-personnes-difficiles/
LOCATION:Centre de méditation Kadampa Metz\, 55 rue Jacques Chirac\, Metz\, 57000\, France
CATEGORIES:Conférence publique,Événement spécial
ATTACH;FMTTYPE=image/png:https://www.meditation-metz.org/wp-content/uploads/2024/08/Couv-Guen-Eupame.png
END:VEVENT
END:VCALENDAR