BEGIN:VCALENDAR
VERSION:2.0
PRODID:-//Centre de Méditation Kadampa Metz - ECPv6.15.20//NONSGML v1.0//EN
CALSCALE:GREGORIAN
METHOD:PUBLISH
X-WR-CALNAME:Centre de Méditation Kadampa Metz
X-ORIGINAL-URL:https://www.meditation-metz.org
X-WR-CALDESC:Évènements pour Centre de Méditation Kadampa Metz
REFRESH-INTERVAL;VALUE=DURATION:PT1H
X-Robots-Tag:noindex
X-PUBLISHED-TTL:PT1H
BEGIN:VTIMEZONE
TZID:UTC
BEGIN:STANDARD
TZOFFSETFROM:+0000
TZOFFSETTO:+0000
TZNAME:UTC
DTSTART:20230101T000000
END:STANDARD
END:VTIMEZONE
BEGIN:VEVENT
DTSTART;TZID=UTC:20241005T143000
DTEND;TZID=UTC:20241005T173000
DTSTAMP:20260420T004338
CREATED:20240824T172449Z
LAST-MODIFIED:20240919T163144Z
UID:3874-1728138600-1728149400@www.meditation-metz.org
SUMMARY:La mort\, et après ... ?
DESCRIPTION:En présentiel\nEn streaming sur YouTube avec le Pass méditation \nJe m’inscris en ligneJe m’inscris en ligne« Si je devais mourir demain…et toi qu’est-ce que tu ferais ? » \nNous connaissons certainement tous cette chanson à travers laquelle nous percevons que\, dès que nous prenons réellement conscience de notre propre mort à venir\, nos choix de vie sont différents d’une personne à l’autre. \nLors de cet après-midi\, nous verrons que comprendre le processus de la mort à de nombreux bénéfices : y faire face avec sérénité et sans peur\, mais aussi donner beaucoup de sens à notre vie. \nAvec Philippe Thauvoye\, enseignant de méditation Philippe partage les enseignements de Bouddha à Saint Avold chaque semaine et ponctuellement à Metz. \nSa clarté\, son humour et sa douceur en font un enseignant très apprécié. \nHoraires \nséance 1 : 14h30-15h45\nséance 2 : 16h15-17h30\n\nParticipation suggérée Demi-journée (2 séances) : Normale : 18 € / Réduit* : 14 € / PF-PFE et Pass méditation : Gratuit1 séance : Normale : 10€ / Réduit* : 8€ / PF-PFE et Pass méditation : Gratuit\n* Réduit : Etudiants\, demandeurs d’emploi\, faibles revenus. Personne n’est refusé pour manque d’argent.\n\nParticipation PF-PFE: Personne inscrite en présentiel au Programme de Fondamental ou au Programme de Formation des Enseignants.
URL:https://www.meditation-metz.org/evenement/la-mort-et-apres/
LOCATION:Centre de méditation Kadampa Metz\, 55 rue Jacques Chirac\, Metz\, 57000\, France
CATEGORIES:Demi-journée à thème
ATTACH;FMTTYPE=image/png:https://www.meditation-metz.org/wp-content/uploads/2024/08/231028-CMK-METZ-Apres-midi-a-theme.png
END:VEVENT
END:VCALENDAR