BEGIN:VCALENDAR
VERSION:2.0
PRODID:-//Centre de Méditation Kadampa Metz - ECPv6.15.20//NONSGML v1.0//EN
CALSCALE:GREGORIAN
METHOD:PUBLISH
X-ORIGINAL-URL:https://www.meditation-metz.org
X-WR-CALDESC:Évènements pour Centre de Méditation Kadampa Metz
REFRESH-INTERVAL;VALUE=DURATION:PT1H
X-Robots-Tag:noindex
X-PUBLISHED-TTL:PT1H
BEGIN:VTIMEZONE
TZID:UTC
BEGIN:STANDARD
TZOFFSETFROM:+0000
TZOFFSETTO:+0000
TZNAME:UTC
DTSTART:20230101T000000
END:STANDARD
END:VTIMEZONE
BEGIN:VEVENT
DTSTART;TZID=UTC:20240915T100000
DTEND;TZID=UTC:20240915T130000
DTSTAMP:20260420T035300
CREATED:20240818T135610Z
LAST-MODIFIED:20240904T093926Z
UID:3472-1726394400-1726405200@www.meditation-metz.org
SUMMARY:C’est la rentrée ! Comment garder la tête hors de l’eau
DESCRIPTION:En présentiel\nEn streaming sur YouTube avec le Pass méditation \nJe m’inscris en ligneJe m’inscris en ligneCa y est\, c’est la reprise ! Après le rythme souvent plus relax de l’été\, il est courant de nous sentir submergés et stressés lorsqu’à nouveau\, notre emploi du temps se trouve rempli d’obligations et d’horaires serrés. Alors\, comment faire pour insuffler de la douceur et de la paix intérieure en cette période souvent agitée ? \nNous contemplerons certains points de la sagesse bouddhiste pour vivre cette période avec plus de sérénité. \nAvec l’enseignante principale\, Guèn Kelsang Konchog Enseignante expérimentée\, Guèn Kelsang Konchog est appréciée pour sa douceur et la clarté de ses enseignements\, les rendant accessibles à tous\, autant aux néophytes qu’aux méditants de longue date. \nElle enseigne l’atelier Sagesse et méditation les lundis soirs\, les événements du weekend\, le Programme de Fondation et le Programme de Formation des Enseignants. \nHoraires \n\n\n\n\nDimanche 15 septembre\n\n\n\n\n\n\nséance 1 : 10h00-11h15\nséance 2 : 11h45-13h00\n\n\n\n\n\n\nParticipation suggérée Demi-journée (2 séances) : Normale : 18 € / Réduit* : 14 € / PF-PFE et Pass méditation : Gratuit1 séance : Normale : 10€ / Réduit* : 8€ / PF-PFE et Pass méditation : Gratuit\n* Réduit : Etudiants\, demandeurs d’emploi\, faibles revenus. Personne n’est refusé pour manque d’argent.\n\nParticipation PF-PFE: Personne inscrite en présentiel au Programme de Fondamental ou au Programme de Formation des Enseignants.
URL:https://www.meditation-metz.org/evenement/le-lundi-de-19h45-a-21h00/
LOCATION:Centre de méditation Kadampa Metz\, 55 rue Jacques Chirac\, Metz\, 57000\, France
CATEGORIES:Demi-journée à thème
ATTACH;FMTTYPE=image/png:https://www.meditation-metz.org/wp-content/uploads/2024/08/240915-CMKMETZ-demi-journee-theme.png
END:VEVENT
END:VCALENDAR