BEGIN:VCALENDAR
VERSION:2.0
PRODID:-//Centre de Méditation Kadampa Metz - ECPv6.15.20//NONSGML v1.0//EN
CALSCALE:GREGORIAN
METHOD:PUBLISH
X-ORIGINAL-URL:https://www.meditation-metz.org
X-WR-CALDESC:Évènements pour Centre de Méditation Kadampa Metz
REFRESH-INTERVAL;VALUE=DURATION:PT1H
X-Robots-Tag:noindex
X-PUBLISHED-TTL:PT1H
BEGIN:VTIMEZONE
TZID:UTC
BEGIN:STANDARD
TZOFFSETFROM:+0000
TZOFFSETTO:+0000
TZNAME:UTC
DTSTART:20230101T000000
END:STANDARD
END:VTIMEZONE
BEGIN:VEVENT
DTSTART;TZID=UTC:20241124T100000
DTEND;TZID=UTC:20241124T130000
DTSTAMP:20260420T004815
CREATED:20240824T175830Z
LAST-MODIFIED:20241112T185252Z
UID:3889-1732442400-1732453200@www.meditation-metz.org
SUMMARY:3 clés pour un esprit en paix
DESCRIPTION:En présentiel et en streaming sur YouTube\nEn streaming sur YouTube avec le Pass méditation \nJe m’inscris en ligneJe m’inscris en ligneLa sagesse bouddhiste offre des conseils pratiques pour résoudre nos problèmes quotidiens de désir incontrôlé\, de colère et de confusion\, et sur la manière de donner un vrai sens à notre vie humaine. \nCes conseils sont riches et nombreux\, mais peuvent être synthétisés en 3 pratiques principales\, appelées 3 principaux aspects de la voie : l’esprit qui peut rester fort et joyeux face aux souffrances\, la compassion universelle et la sagesse qui réalise la vraie nature de la réalité\, ou vacuité. \nPendant cette matinée\, nous contemplerons comment unir chaque instant de notre vie quotidienne à ces 3 pratiques. \nAvec l’enseignante principale\, Guèn Kelsang Konchog Enseignante expérimentée\, Guèn Kelsang Konchog est appréciée pour sa douceur et la clarté de ses enseignements\, les rendant accessibles à tous\, autant aux néophytes qu’aux méditants de longue date. \nElle enseigne l’atelier Sagesse et méditation les lundis soirs\, les événements du weekend\, le Programme de Fondation et le Programme de Formation des Enseignants. \nHoraires \n\n\n\n\nDimanche 24 novembre\n\n\n\n\n\n\nséance 1 : 10h00-11h15\nséance 2 : 11h45-13h00\n\n\n\n\n\n\nParticipation suggérée Demi-journée (2 séances) : Normale : 18 € / Réduit* : 14 € / PF-PFE et Pass méditation-Pass streaming : Gratuit1 séance : Normale : 10€ / Réduit* : 8€ / PF-PFE et Pass méditation-Pass streaming : Gratuit\n* Réduit : Etudiants\, demandeurs d’emploi\, faibles revenus. Personne n’est refusé pour manque d’argent.\n\nParticipation PF-PFE: Personne inscrite en présentiel au Programme de Fondamental ou au Programme de Formation des Enseignants.
URL:https://www.meditation-metz.org/evenement/3-cles-pour-un-esprit-en-paix/
LOCATION:Centre de méditation Kadampa Metz\, 55 rue Jacques Chirac\, Metz\, 57000\, France
CATEGORIES:Demi-journée à thème
ATTACH;FMTTYPE=image/png:https://www.meditation-metz.org/wp-content/uploads/2024/08/CMK-Metz-demi-jt.png
END:VEVENT
END:VCALENDAR