BEGIN:VCALENDAR
VERSION:2.0
PRODID:-//Centre de Méditation Kadampa Metz - ECPv6.15.20//NONSGML v1.0//EN
CALSCALE:GREGORIAN
METHOD:PUBLISH
X-WR-CALNAME:Centre de Méditation Kadampa Metz
X-ORIGINAL-URL:https://www.meditation-metz.org
X-WR-CALDESC:Évènements pour Centre de Méditation Kadampa Metz
REFRESH-INTERVAL;VALUE=DURATION:PT1H
X-Robots-Tag:noindex
X-PUBLISHED-TTL:PT1H
BEGIN:VTIMEZONE
TZID:UTC
BEGIN:STANDARD
TZOFFSETFROM:+0000
TZOFFSETTO:+0000
TZNAME:UTC
DTSTART:20250101T000000
END:STANDARD
END:VTIMEZONE
BEGIN:VEVENT
DTSTART;TZID=UTC:20260504T193000
DTEND;TZID=UTC:20260504T204500
DTSTAMP:20260419T192036
CREATED:20250105T222112Z
LAST-MODIFIED:20260203T190908Z
UID:6146-1777923000-1777927500@www.meditation-metz.org
SUMMARY:Conférence publique : Libre du regard des autres
DESCRIPTION:En présentielEn streaming sur YouTube avec le Pass méditation et le Pass méditationJe m’inscris en ligneJe m’inscris en ligneVous est-il déjà arrivé de ressentir une pression constante de ce que les autres pensent de vous ? \nCette sensation peut nous emprisonner\, nous empêchant de vivre pleinement et authentiquement.\nSe libérer du regard des autres est une opportunité d’explorer des pratiques simples et efficaces pour cultiver un esprit libre et serein. \nÀ travers les conseils issus de la sagesse bouddhiste\, deux méditations guidées et un temps de questions réponses\, cette conférence vous offrira un espace pour comprendre comment le regard des autres influence notre bien-être et comment s’en détacher progressivement. \nCet événement est ouvert à tous\, bouddhiste ou non bouddhiste. \nProfitez de ces soirées pour approfondir un thème et expérimenter les bienfaits de la méditation telle que nous la pratiquons dans notre école. Progressivement\, vous saurez repérer\, réduire et abandonner les états d’esprit stressants pour les remplacer par des états d’esprit paisibles et constructifs. \nNous commencerons avec une méditation guidée sur la respiration pour calmer l’esprit\, suivie de la conférence\, puis une méditation guidée sur le thème de la soirée et un questions réponses. \n Ceux qui le souhaitent peuvent rester discuter après la conférence autour d’une collation préparée par nos bénévoles. \nAvec l’enseignante principale\, Guèn Kelsang Konchog Enseignante expérimentée\, Guèn Kelsang Konchog est appréciée pour sa douceur et la clarté de ses enseignements\, les rendant accessibles à tous\, autant aux néophytes qu’aux méditants de longue date. \nElle enseigne l’atelier Sagesse et méditation les lundis soirs\, les événements du weekend\, le Programme de Fondation et le Programme de Formation des Enseignants. \nHoraires \n19h30 à 20h45\n\nParticipation suggérée \nParticipation unique : 10 € \n\nPersonne n’est refusé pour manque d’argent.
URL:https://www.meditation-metz.org/evenement/conference-publique-meditation-bien-etre-sante-mentale/
LOCATION:Centre de méditation Kadampa Metz\, 55 rue Jacques Chirac\, Metz\, 57000\, France
CATEGORIES:Conférence publique,Événement spécial
ATTACH;FMTTYPE=image/png:https://www.meditation-metz.org/wp-content/uploads/2025/01/Couv-libre.png
END:VEVENT
BEGIN:VEVENT
DTSTART;TZID=UTC:20260508T180000
DTEND;TZID=UTC:20260510T140000
DTSTAMP:20260419T192036
CREATED:20241112T145502Z
LAST-MODIFIED:20260216T091850Z
UID:5901-1778263200-1778421600@www.meditation-metz.org
SUMMARY:Retraite dans les Vosges
DESCRIPTION:En présentiel  \nInscription et réglement complet avant le 17 avril 2026Inscription et réglement complet avant le 17 avril 2026Un océan de joie dans un cœur plein d’amour\nUn cœur reconnaissant change tout… À commencer par nous-mêmes ! \nCette retraite offre une occasion unique de goûter à la paix intérieure en apprenant à méditer sur l’esprit d’amour affectueux. \nDans le cadre paisible et inspirant des montagnes vosgiennes\, nous serons guidés dans des enseignements et méditations simples qui nous mèneront à éprouver un profond sentiment de gratitude et à nous sentir connectés à tous par le cœur. Nous pourrons ensuite utiliser cet esprit de gratitude et d’amour comme source de joie et de force au quotidien. \nOuverts à toutes et tous\, aucune expérience préalable n’est nécessaire. \nLe chalet du Haut du Tôt est situé à seulement 2h de Metz\, Strasbourg ou Mulhouse … dans le plus haut village vosgien\, à 13 km de Gérardmer. \nAvec l’enseignante principale\, Guèn Kelsang Konchog Enseignante expérimentée\, Guèn Kelsang Konchog est appréciée pour sa douceur et la clarté de ses enseignements\, les rendant accessibles à tous\, autant aux néophytes qu’aux méditants de longue date. Elle enseigne à Metz les cours de méditation du lundi soir\, les événements du weekend\, le Programme de Fondation et le Programme de Formation des Enseignants et dans les annexes de Mulhouse et Strasbourg. \nHoraires \n\n  \n  \n\n\n\nVendredi 8 mai\nSamedi 09 mai\nDimanche 10 mai\n\n\n\n\n\n\nAccueil : à partir de 16h30\nDîner : 18h30 à 19h30\nséance 1 : 20h00-21h15\n\n\n\n\nPetit déjeuner : 07h00 – 08h00\nséance 1 : 09h00-10h15\n séance 2 : 11h15-12h45\nDéjeuner : 13h -14h\nséance 3 : 17h00-18h15\nDîner : 18h30-19h30\nséance 4 : 20h00-21h15\n\n\n\n\nPetit déjeuner : 07h00 – 08h00\nséance 1 : 09h00-10h15\n séance 2 : 11h15-12h45\nDéjeuner : 13h -14H\n\n\n\n\n\n\nParticipation suggérée Week-end complet (enseignement\, hébergement et restauration) : 219 €\n\nLe montant de 219 € correspond à 48 € couvrant 7 séances d’enseignements\, et 171 € pour l’hébergement et la restauration du vendredi soir au dimanche midi \n\n\n\nLes repas seront végétariens et sans alcool. L’hébergement est constitué de dortoirs de 4 ou 8 à partager. Pour toute demande de chambre individuelle ou toute question supplémentaire\, merci de nous contacter à l’adresse suivante : admin@meditation-metz.org \n\n\n\nConditions générales d’inscription : la date limite d’inscription est le 17 avril 2026 \nPré-inscription : il est nécessaire d’être inscrit et d’avoir réglé en totalité avant d’arriver au week-end (pour tout besoin d’ajustement\, contacter admin@meditation-metz.org). \nArrhes\, paiement du solde et politique de remboursement : Le Centre de Méditation a des engagements avec un prestataire\, par conséquent les conditions suivantes s’appliquent. Merci de lire attentivement les informations ci-dessous. \n\nLes inscriptions effectuées avant le 17 avril nécessitent un minimum d’arrhes non remboursable de 25% au moment de l’inscription. Le solde est dû pour le 17 avril.\nLes inscriptions effectuées après le 17 avril nécessitent le paiement en totalité au moment de l’inscription\nAnnulations : Les arrhes de 25% ne sont pas remboursables en cas d’annulation jusqu’au 17 avril compris. Après le 17 avril\, les paiements pour le week-end ne sont pas remboursables.\nPossibilité de régler plusieurs fois sans frais.\nPour toute question sur le règlement\, la restauration\, l’hébergement\, contacter : admin@meditation-metz.org
URL:https://www.meditation-metz.org/evenement/meditation-et-deconnection-retraite-dans-les-vosges/
LOCATION:Chalet du Haut du Tôt 88120 Sapois\, 8 Rte du Mont Saint-Etienne\, Sapois\, 88120\, France
CATEGORIES:Événement spécial
ATTACH;FMTTYPE=image/png:https://www.meditation-metz.org/wp-content/uploads/2024/11/Couv-we-vosges-2026.png
END:VEVENT
BEGIN:VEVENT
DTSTART;TZID=UTC:20260522T193000
DTEND;TZID=UTC:20260527T130000
DTSTAMP:20260419T192036
CREATED:20250515T024539Z
LAST-MODIFIED:20260413T103218Z
UID:6389-1779478200-1779886800@www.meditation-metz.org
SUMMARY:Festival International de Printemps avec Guèn-la Kelsang Khyenrab (en Angleterre)
DESCRIPTION:En présentiel\nEn direct et en replay \nEn savoir plus et inscriptionEn savoir plus et inscriptionTrouver la source du vrai bonheur – Transmission des bénédictions d’Amitayous\n\n\n\n\n\n\n\n\n\nGrâce à cette transmission de pouvoir de Bouddha Amitayous\, nous recevrons les bénédictions spéciales d’Amitayous\, le Bouddha de la longue vie\, de la sagesse et du mérite. \nPuis\, se basant sur les Huit Versets de l’entraînement de l’esprit\, Guèn-la Khyenrab expliquera comment nous pouvons transformer tous les problèmes et difficultés de notre vie quotidienne en opportunités pour développer un amour et une compassion authentiques\, et trouver un bonheur pur et durable. \n » Si tout le monde se préoccupait du bonheur des autres\, la plupart des problèmes majeurs de ce monde seraient résolus en quelques années « . Vénérable Guéshé Kelsang Gyatso Rinpotché\, Huit Etapes vers le Bonheur \nEn participant au programme d’enseignements\, de méditations et de retraite du festival\, nous pouvons transformer radicalement notre propre vie et\, par là même\, celle des autres\, et guérir véritablement notre monde en souffrance. \nLe festival se déroulera dans le temple dédié à la paix dans le monde\, situé dans l’environnement béni du Centre de méditation kadampa Mandjoushri\, le centre mère du bouddhisme kadampa\, qui se trouve à Ulverston\, dans la magnifique région du « Lake District »\, au Royaume-Uni. Le festival Il est ouvert à tous et convient à tous les niveaux d’expérience. \n\n\n\n\n\n\n\n\n\nAvec l’ex directeur spirituel général\, Guèn-la Kelsang Khyenrab Guex-directeur spirituel général de la NTK-UIBK et enseignant principal au Centre de Retraite International Tara.  \nEn tant que l’un des enseignants les plus expérimentés de la NTK\, Guèn-la a été l’élève de Vénérable Guéshé Kelsang Gyatso pendant de nombreuses années\, et sous la direction de Guéshé-la.  \nSon humilité et son exemple pur reflètent ses nombreuses années de confiance en son Guide Spirituel.  \nGEnseignant de renom international\, il est grandement admiré en tant que pratiquant sincère et enseignant puissant et pour son exemple pur de compassion et de bonté affectueuse. \nGuèn-la sera assisté par des enseignants séniors de la NKT qui guideront les méditations et les séances de retraite tout au long du festival.
URL:https://www.meditation-metz.org/evenement/festival-international-de-printemps/
LOCATION:Manjushri Kadampa Meditation Centre\, Conishead Priory\, Ulverston\, LA12 9QQ\, United Kingdom
CATEGORIES:Événement spécial,Festival national ou international
ATTACH;FMTTYPE=image/png:https://www.meditation-metz.org/wp-content/uploads/2025/05/Couv-FB-99.png
END:VEVENT
END:VCALENDAR