BEGIN:VCALENDAR
VERSION:2.0
PRODID:-//Centre de Méditation Kadampa Metz - ECPv6.15.20//NONSGML v1.0//EN
CALSCALE:GREGORIAN
METHOD:PUBLISH
X-WR-CALNAME:Centre de Méditation Kadampa Metz
X-ORIGINAL-URL:https://www.meditation-metz.org
X-WR-CALDESC:Évènements pour Centre de Méditation Kadampa Metz
REFRESH-INTERVAL;VALUE=DURATION:PT1H
X-Robots-Tag:noindex
X-PUBLISHED-TTL:PT1H
BEGIN:VTIMEZONE
TZID:UTC
BEGIN:STANDARD
TZOFFSETFROM:+0000
TZOFFSETTO:+0000
TZNAME:UTC
DTSTART:20240101T000000
END:STANDARD
END:VTIMEZONE
BEGIN:VEVENT
DTSTART;TZID=UTC:20250830T100000
DTEND;TZID=UTC:20250831T180000
DTSTAMP:20260420T075937
CREATED:20250624T131003Z
LAST-MODIFIED:20250714T101924Z
UID:6492-1756548000-1756663200@www.meditation-metz.org
SUMMARY:Les Conseils venant du Cœur d'Atisha - retraite guidée post festival
DESCRIPTION:En présentiel\nEn direct sur YouTube avec les Pass streaming et méditation \nJe m’inscris en ligneJe m’inscris en ligne\nPlongez dans les enseignements intemporels d’Atisha (982-1054)\, le grand maître et érudit bouddhiste indien qui fonda le bouddhisme kadampa au Tibet. Durant son séjour au Tibet\, Atisha donna à ses disciples ses « Conseils qui viennent du cœur ». \nIl s’agit d’un texte court contenant des conseils essentiels pour une vie spirituelle heureuse\, équilibrée et pleine de sens. Ces conseils reflètent parfaitement le mode de vie des premiers maîtres bouddhistes kadampas\, et sont profondément éclairants aujourd’hui encore pour toute personne qui souhaite découvrir ou approfondir son chemin intérieur. \nLors de cette retraite\, Guèn Konchog nous transmettra l’essence des enseignements donnés au festival d’été\, et vous aurez la possibilité de les mettre en pratique en méditation\, afin de pouvoir ensuite les intégrer facilement à votre vie quotidienne. \nCet événement est ouvert à tous\, pour les personnes qui n’ont pas pu suivre le festival d’été et pour celles qui l’ont suivi et qui aimeraient l’approfondir\, inscription possible à l’avance et sur place possible. \n\nAvec Guèn Kelsang Konchog Enseignante expérimentée\, Guèn Kelsang Konchog est appréciée pour sa douceur et la clarté de ses enseignements\, les rendant accessibles à tous\, autant aux néophytes qu’aux méditants de longue date. \nElle enseigne l’atelier Sagesse et méditation les lundis soirs\, les événements du weekend\, le Programme de Fondation et le Programme de Formation des Enseignants. \nHoraires \n\n  \n  \n\n\n\nSamedi 30 août\nDimanche 31 août\n\n\n\n\n\n\nSéance 1 : 10h00 – 11h15\nSéance 2 : 11H45 – 13h00\nDéjeuner possible sur place (tiré du sac\, végétarien et sans alcool)\nSéance 3 : 15h00 – 16h15\nSéance 4 : 16h45 –18h00\n\n\n\n\nSéance 1 : 10h00 – 11h15\nSéance 2 : 11H45 – 13h00\nDéjeuner possible sur place (tiré du sac\, végétarien et sans alcool)\nSéance 3 : 15h00 – 16h15\nSéance 4 : 16h45 –18h00\n\n\n\n\n\n\nParticipation suggérée Week-end (8 séances): Normale- Pass streaming : 56€ / Réduite*: 45€ / PF-PFE et Pass méditation : 36€\nJournée (4 séances) : Normale- Pass streaming : 35€ / Réduite*-PF-PFE-Pass Méditation : 24€ \nDemi-journée (2 séances) : Normale- Pass streaming : 16€ / Réduite*-PF-PFE-Pass Méditation : 12€1 séance : Normale – Pass streaming : 10€ / Réduite*-PF-PFE et Pass méditation : 8€\n* Réduite : Etudiants\, demandeurs d’emploi\, faibles revenus. Personne n’est refusé pour manque d’argent.
URL:https://www.meditation-metz.org/evenement/les-conseils-venant-du-coeur-datisha-retraite-guidee-post-festival/
LOCATION:Centre de méditation Kadampa Metz\, 55 rue Jacques Chirac\, Metz\, 57000\, France
CATEGORIES:Événement spécial
ATTACH;FMTTYPE=image/png:https://www.meditation-metz.org/wp-content/uploads/2025/06/Atisha.png
END:VEVENT
END:VCALENDAR