BEGIN:VCALENDAR
VERSION:2.0
PRODID:-//Centre de Méditation Kadampa Metz - ECPv6.15.20//NONSGML v1.0//EN
CALSCALE:GREGORIAN
METHOD:PUBLISH
X-WR-CALNAME:Centre de Méditation Kadampa Metz
X-ORIGINAL-URL:https://www.meditation-metz.org
X-WR-CALDESC:Évènements pour Centre de Méditation Kadampa Metz
REFRESH-INTERVAL;VALUE=DURATION:PT1H
X-Robots-Tag:noindex
X-PUBLISHED-TTL:PT1H
BEGIN:VTIMEZONE
TZID:UTC
BEGIN:STANDARD
TZOFFSETFROM:+0000
TZOFFSETTO:+0000
TZNAME:UTC
DTSTART:20240101T000000
END:STANDARD
END:VTIMEZONE
BEGIN:VEVENT
DTSTART;TZID=UTC:20251018T100000
DTEND;TZID=UTC:20251019T161500
DTSTAMP:20260420T045910
CREATED:20250624T141337Z
LAST-MODIFIED:20250721T152849Z
UID:6504-1760781600-1760890500@www.meditation-metz.org
SUMMARY:Hypersensible\, mais pas Hyper fragile !
DESCRIPTION:En présentiel\nEn direct sur YouTube avec les Pass streaming et méditation \nJe m’inscris en ligneJe m’inscris en ligne\nVous êtes du genre à ressentir les émotions plus intensément que les autres ? \nÊtre hypersensible n’est pas une faiblesse\, bien au contraire\, c’est une force lorsqu’on sait comment la gérer. Ce week-end est conçu pour vous aider à comprendre votre sensibilité et à la transformer en un atout pour naviguer la vie avec plus de sérénité.  \nÀ travers des méditations guidées et des conseils pratiques\, vous apprendrez à renforcer votre paix intérieure et à mieux gérer les situations émotionnellement chargées. Ce n’est pas une question de devenir moins sensible\, mais d’apprendre à être plus résilient face aux défis du quotidien.  \nVenez découvrir comment cette belle qualité peut vous aider à briller. \n\nAvec Guèn Kelsang Konchog Enseignante expérimentée\, Guèn Kelsang Konchog est appréciée pour sa douceur et la clarté de ses enseignements\, les rendant accessibles à tous\, autant aux néophytes qu’aux méditants de longue date. \nElle enseigne l’atelier Sagesse et méditation les lundis soirs\, les événements du weekend\, le Programme de Fondation et le Programme de Formation des Enseignants. \nHoraires \n\n  \n\n\n\nSamedi 18 octobre\nDimanche 19 octobre\n\n\n\n\n\n\nSéance 1 : 10h00 – 11h15\nSéance 2 : 11H45 – 13h00\nDéjeuner possible sur place (tiré du sac\, végétarien et sans alcool)\nSéance 3 : 15h00 – 16h30\n\n\n\n\nSéance 1 : 10h00 – 11h15\nSéance 2 : 11H45 – 13h00\nDéjeuner possible sur place (tiré du sac\, végétarien et sans alcool)\nSéance 3 : 15h00 – 16h30\n\n\n\n\n\n\nParticipation suggérée Week-end (6 séances): Normale- Pass streaming : 56€ / Réduite*: 45€ / PF-PFE et Pass méditation : 36€Journée (3 séances) : Normale- Pass streaming : 35€ / Réduite*-PF-PFE-Pass Méditation : 24€Demi-journée (3 séances) : Normale- Pass streaming : 16€ / Réduite*-PF-PFE-Pass Méditation : 12€1 séance : Normale- Pass streaming : 10€ / Réduite*-PF-PFE et Pass méditation : 8€\n* Réduite : Etudiants\, demandeurs d’emploi\, faibles revenus. Personne n’est refusé pour manque d’argent.
URL:https://www.meditation-metz.org/evenement/hypersensible-mais-hyper-fragile/
LOCATION:Centre de méditation Kadampa Metz\, 55 rue Jacques Chirac\, Metz\, 57000\, France
CATEGORIES:Événement spécial
ATTACH;FMTTYPE=image/png:https://www.meditation-metz.org/wp-content/uploads/2025/06/Jeunes.png
END:VEVENT
END:VCALENDAR