BEGIN:VCALENDAR
VERSION:2.0
PRODID:-//Centre de Méditation Kadampa Metz - ECPv6.15.20//NONSGML v1.0//EN
CALSCALE:GREGORIAN
METHOD:PUBLISH
X-ORIGINAL-URL:https://www.meditation-metz.org
X-WR-CALDESC:Évènements pour Centre de Méditation Kadampa Metz
REFRESH-INTERVAL;VALUE=DURATION:PT1H
X-Robots-Tag:noindex
X-PUBLISHED-TTL:PT1H
BEGIN:VTIMEZONE
TZID:UTC
BEGIN:STANDARD
TZOFFSETFROM:+0000
TZOFFSETTO:+0000
TZNAME:UTC
DTSTART:20240101T000000
END:STANDARD
END:VTIMEZONE
BEGIN:VEVENT
DTSTART;TZID=UTC:20251213T100000
DTEND;TZID=UTC:20251214T163000
DTSTAMP:20260420T014945
CREATED:20250709T100226Z
LAST-MODIFIED:20251204T130808Z
UID:6870-1765620000-1765729800@www.meditation-metz.org
SUMMARY:Tourner la page\, s'ouvrir à de nouveaux possibles
DESCRIPTION:En présentiel\nEn direct sur YouTube avec les Pass streaming et méditation \nJe m’inscris en ligneJe m’inscris en ligneComment parvenir à transformer ce qui nous a fait tant souffrir et à tourner la page ? Nous vivons avec cette souffrance depuis si longtemps. Elle ne nous quitte presque jamais et pourtant nous aimerions tant nous en séparer. \nPourquoi nous ? Pourquoi moi ? \nRéussirons-nous à passer à autre chose sans faire semblant\, à accepter ce qui nous est arrivé\, s’en libérer et pardonner ? \nDans les enseignements\, Bouddha nous enseigne la loi du karma\, la loi de cause et effet. Nous pouvons alors comprendre l’origine de nos souffrances. \nLors de ce week-end guidé par Guèn Tonpa\, nous ferons l’expérience d’une vraie liberté intérieure\, afin de pouvoir enfin tourner la page et en commencer une autre. \nPour un enseignement complet\, il est conseillé d’assister à toutes les séances. \nGuèn Tonpa nous en dit plus dans cette vidéo >>Guèn Tonpa nous en dit plus dans cette vidéo >>Avec l’enseignant principal de Paris\, Guèn Kelsang Tonpa Guèn Kelsang Tonpa\, moine bouddhiste depuis 2006\, a enseigné pendant plusieurs années à Paris\, à Toulouse et a rejoint le CMK Paris dont il est redevenu l’enseignant principal.  \nGuèn Kelsang Tonpa enseigne la méditation bouddhiste avec bon cœur\, sagesse et grande clarté. Grâce à sa joie de vivre et son rayonnement\, il encourage positivement les étudiants à mettre en pratique les enseignements au quotidien. \nHoraires \n\n  \n\n\n\nSamedi 13 décembre\nDimanche 14 décembre\n\n\n\n\n\n\nséance 1 : 10h00-11h15\nséance 2 : 11h45-13h00\nséance 3 : 15h-16h30\n\n\n\n\nséance 1 : 10h00-11h15\nséance 2 : 11h45-13h00\nséance 3 : 15h-16h30\n\n\n\n\n\n\nParticipation suggérée Week-end (6 séances): Normale- Pass streaming : 56€ / Réduite* : 45€ / PF-PFE et Pass méditation : 36€Journée (3 séances) : Normale- Pass streaming : 35€ / Réduite* / PF-PFE-Pass Méditation : 24€Demi-journée (2 séances) : Normale- Pass streaming : 16€ / Réduite* / PF-PFE-Pass Méditation : 12€1 séance : Normale- Pass streaming : 10€ / Réduite*/ PF-PFE et Pass méditation : 8€\n* Réduite : Etudiants\, demandeurs d’emploi\, faibles revenus. Personne n’est refusé pour manque d’argent. \n\nParticipation PF-PFE : Personne inscrite en présentiel au Programme de Fondamental ou au Programme de Formation des Enseignants.
URL:https://www.meditation-metz.org/evenement/tourner-la-page-souvrir-a-de-nouveaux-possibles/
LOCATION:Centre de méditation Kadampa Metz\, 55 rue Jacques Chirac\, Metz\, 57000\, France
CATEGORIES:Événement spécial
ATTACH;FMTTYPE=image/png:https://www.meditation-metz.org/wp-content/uploads/2025/07/Couv-Guen-Tonpa.png
END:VEVENT
END:VCALENDAR