BEGIN:VCALENDAR
VERSION:2.0
PRODID:-//Centre de Méditation Kadampa Metz - ECPv6.15.20//NONSGML v1.0//EN
CALSCALE:GREGORIAN
METHOD:PUBLISH
X-ORIGINAL-URL:https://www.meditation-metz.org
X-WR-CALDESC:Évènements pour Centre de Méditation Kadampa Metz
REFRESH-INTERVAL;VALUE=DURATION:PT1H
X-Robots-Tag:noindex
X-PUBLISHED-TTL:PT1H
BEGIN:VTIMEZONE
TZID:UTC
BEGIN:STANDARD
TZOFFSETFROM:+0000
TZOFFSETTO:+0000
TZNAME:UTC
DTSTART:20250101T000000
END:STANDARD
END:VTIMEZONE
BEGIN:VEVENT
DTSTART;TZID=UTC:20260501T091500
DTEND;TZID=UTC:20260503T184500
DTSTAMP:20260424T135251
CREATED:20250105T180907Z
LAST-MODIFIED:20260416T184405Z
UID:6098-1777626900-1777833900@www.meditation-metz.org
SUMMARY:Retraite non guidée sur le refuge
DESCRIPTION:En présentiel uniquement\, sans réservation à l’avanceQu’est-ce que le refuge ? \nDans ce contexte\, chercher refuge signifie chercher la protection intérieure\, une protection fiable contre la souffrance intérieure et extérieure. Cette protection se construit graduellement en se familiarisant avec la sagesse (Dharma) jusqu’à ce qu’elle soit parfaitement intégrée. Cette sagesse ne peut se développer qu’en recevant l’inspiration des êtres saints (Bouddhas) ayant l’expérience de ces instructions et l’aide des amis spirituels (Sangha) qui parcourent la même voie que nous. Cette retraite a pour but de renforcer notre conviction dans cette protection intérieure. \nDéroulement de la retraite :  \nCette retraite est non-guidée\, c’est à dire qu’il n’y a pas d’enseignement. Il y a 3 à 4 séances de 1h30 par jour\, chaque séance est composée de prières préparatoires en conjonction avec la prière chantée L’Essence de la Bonne Fortune\, de récitations et méditations.  \nDes fiches explicatives sur le déroulement de la retraite seront mises à disposition pour nous aider à tirer le plus de bénéfices de celle-ci.  \nLes séances sont accessibles à tous\, sans inscription\, participation libre. \nSur la base du livret de prières L’Essence de la Bonne Fortune. \nIl est possible de n’assister qu’à certaines séances. Il y a deux à quatre séances de 1h30 (en moyenne) par jour\, chaque séance est composée de prières préparatoires\, de récitations et méditations. \nChaque année\, plusieurs retraites guidées ou non guidées et ouvertes à tous dont les retraites des quatre grands guides préliminaires (Lamrim\, Refuge\, Vajrasattva et Yoga du guide spirituel et Offrandes de Mandalas) sont organisées au CMK Metz. \nHoraires \n\n  \n\n\n\nVendredi 1er mai\nSamedi 2 mai\n\n\n\n\n\n\nséance 1 : 09h15-10h45\nséance 2 : 11h30-13h\nséance 3 : 14h30-16h\n\n\n\n\nséance 1 : 09h15-10h45\nséance 2 : 11h30-13h\nséance 3 : 14h30-16h\nséance 4 : 16h45-18h15\n\n\n\n\n\n\n\n\n  \n\n\n\nDimanche 3 mai\n\n\n\n\n\n\nséance 1 : 14h30-16h00\nséance 2 : 16h45-18h15\n\n\n\n\n\n  \n\nParticipation suggérée \nParticipation libre : les dons seront reversés au Projet International pour les Temples \n\n\nIl est possible de déposer une offrande\, des images de Bouddhas\, bougies\, encens … nourriture fraiche végétarienne et sans alcool\, ou vous pouvez faire un don qui sera destiné au Projet International des Temples).
URL:https://www.meditation-metz.org/evenement/retraite-non-guidee-sur-le-refuge/
CATEGORIES:Retraite de méditation,Week-end à thème
ATTACH;FMTTYPE=image/png:https://www.meditation-metz.org/wp-content/uploads/2024/08/Couv-Dje-Tsongkhapa.png
END:VEVENT
BEGIN:VEVENT
DTSTART;TZID=UTC:20260504T193000
DTEND;TZID=UTC:20260504T204500
DTSTAMP:20260424T135251
CREATED:20250105T222112Z
LAST-MODIFIED:20260203T190908Z
UID:6146-1777923000-1777927500@www.meditation-metz.org
SUMMARY:Conférence publique : Libre du regard des autres
DESCRIPTION:En présentielEn streaming sur YouTube avec le Pass méditation et le Pass méditationJe m’inscris en ligneJe m’inscris en ligneVous est-il déjà arrivé de ressentir une pression constante de ce que les autres pensent de vous ? \nCette sensation peut nous emprisonner\, nous empêchant de vivre pleinement et authentiquement.\nSe libérer du regard des autres est une opportunité d’explorer des pratiques simples et efficaces pour cultiver un esprit libre et serein. \nÀ travers les conseils issus de la sagesse bouddhiste\, deux méditations guidées et un temps de questions réponses\, cette conférence vous offrira un espace pour comprendre comment le regard des autres influence notre bien-être et comment s’en détacher progressivement. \nCet événement est ouvert à tous\, bouddhiste ou non bouddhiste. \nProfitez de ces soirées pour approfondir un thème et expérimenter les bienfaits de la méditation telle que nous la pratiquons dans notre école. Progressivement\, vous saurez repérer\, réduire et abandonner les états d’esprit stressants pour les remplacer par des états d’esprit paisibles et constructifs. \nNous commencerons avec une méditation guidée sur la respiration pour calmer l’esprit\, suivie de la conférence\, puis une méditation guidée sur le thème de la soirée et un questions réponses. \n Ceux qui le souhaitent peuvent rester discuter après la conférence autour d’une collation préparée par nos bénévoles. \nAvec l’enseignante principale\, Guèn Kelsang Konchog Enseignante expérimentée\, Guèn Kelsang Konchog est appréciée pour sa douceur et la clarté de ses enseignements\, les rendant accessibles à tous\, autant aux néophytes qu’aux méditants de longue date. \nElle enseigne l’atelier Sagesse et méditation les lundis soirs\, les événements du weekend\, le Programme de Fondation et le Programme de Formation des Enseignants. \nHoraires \n19h30 à 20h45\n\nParticipation suggérée \nParticipation unique : 10 € \n\nPersonne n’est refusé pour manque d’argent.
URL:https://www.meditation-metz.org/evenement/conference-publique-meditation-bien-etre-sante-mentale/
LOCATION:Centre de méditation Kadampa Metz\, 55 rue Jacques Chirac\, Metz\, 57000\, France
CATEGORIES:Conférence publique,Événement spécial
ATTACH;FMTTYPE=image/png:https://www.meditation-metz.org/wp-content/uploads/2025/01/Couv-libre.png
END:VEVENT
BEGIN:VEVENT
DTSTART;TZID=UTC:20260508T180000
DTEND;TZID=UTC:20260510T140000
DTSTAMP:20260424T135251
CREATED:20241112T145502Z
LAST-MODIFIED:20260216T091850Z
UID:5901-1778263200-1778421600@www.meditation-metz.org
SUMMARY:Retraite dans les Vosges
DESCRIPTION:En présentiel  \nInscription et réglement complet avant le 17 avril 2026Inscription et réglement complet avant le 17 avril 2026Un océan de joie dans un cœur plein d’amour\nUn cœur reconnaissant change tout… À commencer par nous-mêmes ! \nCette retraite offre une occasion unique de goûter à la paix intérieure en apprenant à méditer sur l’esprit d’amour affectueux. \nDans le cadre paisible et inspirant des montagnes vosgiennes\, nous serons guidés dans des enseignements et méditations simples qui nous mèneront à éprouver un profond sentiment de gratitude et à nous sentir connectés à tous par le cœur. Nous pourrons ensuite utiliser cet esprit de gratitude et d’amour comme source de joie et de force au quotidien. \nOuverts à toutes et tous\, aucune expérience préalable n’est nécessaire. \nLe chalet du Haut du Tôt est situé à seulement 2h de Metz\, Strasbourg ou Mulhouse … dans le plus haut village vosgien\, à 13 km de Gérardmer. \nAvec l’enseignante principale\, Guèn Kelsang Konchog Enseignante expérimentée\, Guèn Kelsang Konchog est appréciée pour sa douceur et la clarté de ses enseignements\, les rendant accessibles à tous\, autant aux néophytes qu’aux méditants de longue date. Elle enseigne à Metz les cours de méditation du lundi soir\, les événements du weekend\, le Programme de Fondation et le Programme de Formation des Enseignants et dans les annexes de Mulhouse et Strasbourg. \nHoraires \n\n  \n  \n\n\n\nVendredi 8 mai\nSamedi 09 mai\nDimanche 10 mai\n\n\n\n\n\n\nAccueil : à partir de 16h30\nDîner : 18h30 à 19h30\nséance 1 : 20h00-21h15\n\n\n\n\nPetit déjeuner : 07h00 – 08h00\nséance 1 : 09h00-10h15\n séance 2 : 11h15-12h45\nDéjeuner : 13h -14h\nséance 3 : 17h00-18h15\nDîner : 18h30-19h30\nséance 4 : 20h00-21h15\n\n\n\n\nPetit déjeuner : 07h00 – 08h00\nséance 1 : 09h00-10h15\n séance 2 : 11h15-12h45\nDéjeuner : 13h -14H\n\n\n\n\n\n\nParticipation suggérée Week-end complet (enseignement\, hébergement et restauration) : 219 €\n\nLe montant de 219 € correspond à 48 € couvrant 7 séances d’enseignements\, et 171 € pour l’hébergement et la restauration du vendredi soir au dimanche midi \n\n\n\nLes repas seront végétariens et sans alcool. L’hébergement est constitué de dortoirs de 4 ou 8 à partager. Pour toute demande de chambre individuelle ou toute question supplémentaire\, merci de nous contacter à l’adresse suivante : admin@meditation-metz.org \n\n\n\nConditions générales d’inscription : la date limite d’inscription est le 17 avril 2026 \nPré-inscription : il est nécessaire d’être inscrit et d’avoir réglé en totalité avant d’arriver au week-end (pour tout besoin d’ajustement\, contacter admin@meditation-metz.org). \nArrhes\, paiement du solde et politique de remboursement : Le Centre de Méditation a des engagements avec un prestataire\, par conséquent les conditions suivantes s’appliquent. Merci de lire attentivement les informations ci-dessous. \n\nLes inscriptions effectuées avant le 17 avril nécessitent un minimum d’arrhes non remboursable de 25% au moment de l’inscription. Le solde est dû pour le 17 avril.\nLes inscriptions effectuées après le 17 avril nécessitent le paiement en totalité au moment de l’inscription\nAnnulations : Les arrhes de 25% ne sont pas remboursables en cas d’annulation jusqu’au 17 avril compris. Après le 17 avril\, les paiements pour le week-end ne sont pas remboursables.\nPossibilité de régler plusieurs fois sans frais.\nPour toute question sur le règlement\, la restauration\, l’hébergement\, contacter : admin@meditation-metz.org
URL:https://www.meditation-metz.org/evenement/meditation-et-deconnection-retraite-dans-les-vosges/
LOCATION:Chalet du Haut du Tôt 88120 Sapois\, 8 Rte du Mont Saint-Etienne\, Sapois\, 88120\, France
CATEGORIES:Événement spécial
ATTACH;FMTTYPE=image/png:https://www.meditation-metz.org/wp-content/uploads/2024/11/Couv-we-vosges-2026.png
END:VEVENT
BEGIN:VEVENT
DTSTART;TZID=UTC:20260522T193000
DTEND;TZID=UTC:20260527T130000
DTSTAMP:20260424T135251
CREATED:20250515T024539Z
LAST-MODIFIED:20260413T103218Z
UID:6389-1779478200-1779886800@www.meditation-metz.org
SUMMARY:Festival International de Printemps avec Guèn-la Kelsang Khyenrab (en Angleterre)
DESCRIPTION:En présentiel\nEn direct et en replay \nEn savoir plus et inscriptionEn savoir plus et inscriptionTrouver la source du vrai bonheur – Transmission des bénédictions d’Amitayous\n\n\n\n\n\n\n\n\n\nGrâce à cette transmission de pouvoir de Bouddha Amitayous\, nous recevrons les bénédictions spéciales d’Amitayous\, le Bouddha de la longue vie\, de la sagesse et du mérite. \nPuis\, se basant sur les Huit Versets de l’entraînement de l’esprit\, Guèn-la Khyenrab expliquera comment nous pouvons transformer tous les problèmes et difficultés de notre vie quotidienne en opportunités pour développer un amour et une compassion authentiques\, et trouver un bonheur pur et durable. \n » Si tout le monde se préoccupait du bonheur des autres\, la plupart des problèmes majeurs de ce monde seraient résolus en quelques années « . Vénérable Guéshé Kelsang Gyatso Rinpotché\, Huit Etapes vers le Bonheur \nEn participant au programme d’enseignements\, de méditations et de retraite du festival\, nous pouvons transformer radicalement notre propre vie et\, par là même\, celle des autres\, et guérir véritablement notre monde en souffrance. \nLe festival se déroulera dans le temple dédié à la paix dans le monde\, situé dans l’environnement béni du Centre de méditation kadampa Mandjoushri\, le centre mère du bouddhisme kadampa\, qui se trouve à Ulverston\, dans la magnifique région du « Lake District »\, au Royaume-Uni. Le festival Il est ouvert à tous et convient à tous les niveaux d’expérience. \n\n\n\n\n\n\n\n\n\nAvec l’ex directeur spirituel général\, Guèn-la Kelsang Khyenrab Guex-directeur spirituel général de la NTK-UIBK et enseignant principal au Centre de Retraite International Tara.  \nEn tant que l’un des enseignants les plus expérimentés de la NTK\, Guèn-la a été l’élève de Vénérable Guéshé Kelsang Gyatso pendant de nombreuses années\, et sous la direction de Guéshé-la.  \nSon humilité et son exemple pur reflètent ses nombreuses années de confiance en son Guide Spirituel.  \nGEnseignant de renom international\, il est grandement admiré en tant que pratiquant sincère et enseignant puissant et pour son exemple pur de compassion et de bonté affectueuse. \nGuèn-la sera assisté par des enseignants séniors de la NKT qui guideront les méditations et les séances de retraite tout au long du festival.
URL:https://www.meditation-metz.org/evenement/festival-international-de-printemps/
LOCATION:Manjushri Kadampa Meditation Centre\, Conishead Priory\, Ulverston\, LA12 9QQ\, United Kingdom
CATEGORIES:Événement spécial,Festival national ou international
ATTACH;FMTTYPE=image/png:https://www.meditation-metz.org/wp-content/uploads/2025/05/Couv-FB-99.png
END:VEVENT
BEGIN:VEVENT
DTSTART;TZID=UTC:20260604T091500
DTEND;TZID=UTC:20260604T184500
DTSTAMP:20260424T135251
CREATED:20250502T212859Z
LAST-MODIFIED:20250709T103958Z
UID:6363-1780564500-1780598700@www.meditation-metz.org
SUMMARY:Une offrande de foi
DESCRIPTION:En présentiel uniquementRetraite non guidée\nLe 4 juin\, nous célébrerons le jour du 1er enseignement de Bouddha donné dans ce monde\, soit le Jour de la rotation de la roue du dharma (49 jours après le jour de l’illumination de Bouddha). \nC’est également le jour de l’anniversaire de Vénérable Guéshé Kelsang Gyatso Rinpoché. \nNous nous rappelons chaque jour de la grande bonté de Vénérable Guéshé-la\, notre guide spirituel et fondateur de la Nouvelle Tradition Kadampa. \nEn ce jour auspicieux du 4 juin\, avec notre esprit empli de réjouissance et de gratitude\, nous lui offrirons notre foi en faisant une retraite avec la prière spéciale Requête au saint guide spirituel Vénérable Guéshé Kelsang Gyatso provenant de ses disciples fidèles et sur la base de la pratique Les Centaines de déités du pays joyeux. \nDurant ces séances\, l’accent sera mis sur la récitation du mantra nom de Guéshé-la. \nLivrets de prières utilisées : \n– Les Centaines de Déités du Pays Joyeux selon le tantra du yoga suprême\n– Requête au saint guide spirituel\, Vénérable Guéshé Kelsang Gyatso\, provenant de ses disciples fidèles\n–  L’Offrande au guide spirituel \nAvec l’enseignante principale\, Guèn Kelsang Konchog Enseignante expérimentée\, Guèn Kelsang Konchog est appréciée pour sa douceur et la clarté de ses enseignements\, les rendant accessibles à tous\, autant aux néophytes qu’aux méditants de longue date. \nElle enseigne l’atelier Sagesse et méditation les lundis soirs\, les événements du weekend\, le Programme de Fondation et le Programme de Formation des Enseignants. \nHoraires \n\n  \n\n\n\nMercredi 4 juin Matin\nMercredi 4 juin Après-midi\n\n\n\n\n\n\nséance 1 : 9h15-10h45\nSéance 2 : 11h30-13h\n\n\n\n\nSéance 3 : 15h-16h30\n OGS (tsog) : 17h-18h45\n\n\n\n\n\n  \n\nParticipation suggérée \nParticipation libre\, événement gratuit \n\n\nIl est possible de déposer une offrande\, des images de Bouddhas\, bougies\, encens … nourriture fraiche végétarienne et sans alcool\, ou vous pouvez faire un don qui sera destiné au Projet International des Temples).
URL:https://www.meditation-metz.org/evenement/une-offrande-de-foi/
LOCATION:Centre de méditation Kadampa Metz\, 55 rue Jacques Chirac\, Metz\, 57000\, France
CATEGORIES:Retraite de méditation,Week-end à thème
ATTACH;FMTTYPE=image/png:https://www.meditation-metz.org/wp-content/uploads/2025/02/Couv-VGKGR.png
END:VEVENT
BEGIN:VEVENT
DTSTART;TZID=UTC:20260613T100000
DTEND;TZID=UTC:20260614T163000
DTSTAMP:20260424T135251
CREATED:20240826T125714Z
LAST-MODIFIED:20260117T101013Z
UID:4212-1781344800-1781454600@www.meditation-metz.org
SUMMARY:Quel sens donner à notre vie ?
DESCRIPTION:En présentiel\nEn streaming sur YouTube avec le Pass méditation \nJe m’inscris en ligneJe m’inscris en ligne\nQuelle est ma raison de vivre ? Qu’est-ce qui m’anime fondamentalement ? Ma vie a-t-elle un but prédéterminé ? Ou dois-je plutôt improviser au fur et à mesure ?  \nChacun de nous recherche un sens à son existence. Sans trouver de sens valide\, notre vie nous apparaît de plus en plus creuse et vide. Légitimement\, nous nous sentons peu à peu désanimés\, découragés\, déprimés\, et même sans espoir.  \nPourquoi devoir endurer constamment autant de difficultés et de douleurs ? Pourquoi être les témoins de tant de souffrances chez nos proches et dans notre monde ?  \nAu sens propre et au sens figuré\, nous avons tous besoin d’une destination\, d’une carte\, et d’une boussole valides. Quelles sont celles proposées par la sagesse de Bouddha ?  \nDurant ce week-end\, nous contemplerons\, à partir des profonds enseignements de Bouddha sur la relation dépendante\, comment notre existence même est reliée à tous les autres êtres vivants et notre esprit est simplement inséparable de tous les phénomènes. Une source d’un but\, d’un pouvoir et d’un bonheur illimité !  \n\nAvec un invité exceptionnel Kadam Olivier Terreault Kadam Olivier Terreault est l’enseignant principal du Centre de Méditation Kadampa Vajrassattva de Montpellier. Kadam Olivier est étudiant de Vénérable Guéshé Kelsang Gyatso Rinpoché et pratiquant du bouddhisme kadampa depuis 1996. \nQuébécois d’origine\, il enseigne la méditation kadampa et guide des retraites depuis 2002. \nKadam Olivier est apprécié pour sa grande expérience ainsi que pour sa bienveillance et son humour qui nous permettent d’intégrer facilement les enseignements de Bouddha dans notre quotidien. \n“Kadam” est le titre que Guéshé Kelsang Gyatso Rinpotché donne aux enseignants laïcs qualifiés dans la Nouvelle Tradition Kadampa. \nHoraires \n\n\n\n\nSamedi 16 novembre\nDimanche 17 novembre\n\n\n\n\n\n\nSéance 1 : 10h00 – 11h15\nSéance 2 : 11H45 – 13h00\nDéjeuner possible sur place (tiré du sac\, végétarien et sans alcool)\nSéance 3 : 15h00 – 16h30\n\n\n\n\nSéance 1 : 10h00 – 11h15\nSéance 2 : 11H45 – 13h00\nDéjeuner possible sur place (tiré du sac\, végétarien et sans alcool)\nSéance 3 : 15h00 – 16h30\n\n\n\n\n\n\nParticipation suggérée \nWeek-end (6 séances): Normale : 64€ / Réduite*-Pass streaming : 45€ / PF-PFE et Pass méditation : 39€ \n\nJournée (3 séances) : Normale : 32€ / Réduite*-Pass streaming : 27€ / PF-PFE-Pass Méditation : 22€ \n\nDemi-journée (3 séances) : Normale : 21€ / Réduite*Pass streaming : 18€ / PF-PFE-Pass Méditation : 14€ \n1 séance : Normale : 12€ / Réduite*-Pass streaming : 10€ / PF-PFE -Pass méditation : 8€\n* Réduite : Etudiants\, demandeurs d’emploi\, faibles revenus. Personne n’est refusé pour manque d’argent.
URL:https://www.meditation-metz.org/evenement/quel-sens-donner-a-notre-vie/
LOCATION:Centre de méditation Kadampa Metz\, 55 rue Jacques Chirac\, Metz\, 57000\, France
CATEGORIES:Événement spécial
ATTACH;FMTTYPE=image/png:https://www.meditation-metz.org/wp-content/uploads/2024/08/Couv-Kadam-Olivier-2.png
END:VEVENT
BEGIN:VEVENT
DTSTART;TZID=UTC:20260627T091500
DTEND;TZID=UTC:20260628T181500
DTSTAMP:20260424T135251
CREATED:20250223T114733Z
LAST-MODIFIED:20250709T104401Z
UID:6283-1782551700-1782670500@www.meditation-metz.org
SUMMARY:Retraite non guidée Yoga du Guide Spirituel et Offrande de Mandalas
DESCRIPTION:En présentiel uniquementOffrir le mandala est la meilleure méthode pour nous libérer de la pauvreté future et pour créer la cause d’une renaissance dans le pays pur d’un bouddha. En faisant des offrandes de mandala\, nous diminuons notre attachement aux plaisirs et aux biens ordinaires et accumulons une immense énergie positive. En résultat\, nous connaissons progressivement des richesses\, de bonnes conditions et des plaisirs grandissants. Nos souhaits temporaires seront exaucés et nous atteindrons finalement notre but ultime\, la pleine illumination. Si nous souhaitons connaître ces bienfaits\, nous avons besoin de nous familiariser avec la pratique de l’offrande du mandala. \nS’en remettre au guide spirituel est la racine de tous les accomplissements spirituels. Lors de cette retraite\, nous nous engageons également dans cet entraînement\, appelé yoga du guide spirituel\, grâce auquel nous recevons une pluie de bénédictions. Nous pouvons tout accomplir avec les puissantes bénédictions de notre guide spirituel. \nCette retraite est non guidée\, c’est-à-dire qu’il n’y a pas d’enseignements et comprendra 2 à 4 séances par jour\, elle se fera en conjonction avec la prière chantée de l’Offrande au Guide Spirituel. \nChaque séance dure 1h30 et est composée de prières préparatoires\, de récitations et méditations. Il est possible de n’assister qu’à certaines séances\, l’accès est sans inscription. \nDes fiches explicatives sur le déroulement de la retraite seront mises à disposition pour nous aider à tirer le plus de bénéfice de celle-ci.  \nChaque année\, plusieurs retraites guidées ou non guidées et ouvertes à tous dont les retraites des quatre grands guides préliminaires (Lamrim\, Refuge\, Vajrasattva et Yoga du guide spirituel et Offrandes de Mandalas) sont organisées au CMK Metz. \nHoraires \n\n  \n\n\n\nSamedi 27 juin\nDimanche 28 juin\n\n\n\n\n\n\nséance 1 : 09h15-10h45\nséance 2 : 11h30-13h\nséance 3 : 14h30-16h\nséance 4 : 16h45-18h5\n\n\n\n\nséance 1 : 09h15-10h45\nséance 2 : 11h30-13h\nséance 3 : 14h30-16h\nséance 4 : 16h45-18h5\n\n\n\n\n\n  \n\nParticipation suggérée Participation libre : les dons seront reversés au Projet International pour les Temples\n\nIl est possible de déposer une offrande\, des images de Bouddhas\, bougies\, encens … nourriture fraiche végétarienne et sans alcool\, ou vous pouvez faire un don qui sera destiné au Projet International des Temples).
URL:https://www.meditation-metz.org/evenement/retraite-non-guidee-yoga-du-guide-spirituel-et-offrande-de-mandalas/
LOCATION:Centre de méditation Kadampa Metz\, 55 rue Jacques Chirac\, Metz\, 57000\, France
CATEGORIES:Retraite de méditation,Week-end à thème
ATTACH;FMTTYPE=image/png:https://www.meditation-metz.org/wp-content/uploads/2025/02/Couv-Offrande-de-mandala.png
END:VEVENT
BEGIN:VEVENT
DTSTART;TZID=UTC:20260724T193000
DTEND;TZID=UTC:20260808T123000
DTSTAMP:20260424T135251
CREATED:20250515T032046Z
LAST-MODIFIED:20260413T103034Z
UID:6399-1784921400-1786192200@www.meditation-metz.org
SUMMARY:Festival International d'été (Angleterre)
DESCRIPTION:En présentiel\nEn direct et en replay \nPlus d’informations et inscriptionPlus d’informations et inscription\nLa voie suprême vers l’illumination\n\n\n\n\nENSEIGNEMENTS SUR LES ÉTAPES DE LA VOIE\, LE LAMRIM & TRANSMISSIONS DE POUVOIR DU TANTRA DU YOGA SUPRÊME ET COMMENTAIRES \n**1ère semaine Enseignements sur le Lamrim Kadam – Les Etapes de la Voie de l’Illumination avec Guèn-la Kelsang Sangden 24 – 29 Juillet \nLes instructions du Lamrim constituent l’essentiel des enseignements de Bouddha. En intégrant ces instructions dans notre vie quotidienne\, nous pouvons apprendre à contrôler notre esprit et à toujours garder une bonne motivation dans notre cœur. Cela rendra toutes nos actions quotidiennes pures et pleines de sens et\, à mesure que nous ferons l’expérience d’états d’esprit de plus en plus paisibles\, nous découvrirons le bonheur suprême de l’illumination. Cette semaine sera aussi une préparation parfaite pour recevoir les Transmissions de Pouvoir du Tantra du Yoga Suprême. \n**2ème semaine Transmission de Pouvoir du Mandala du Corps de Hérouka et de Vajrayogini avec Guèn-la Kelsang Jampa 31 juillet – 8 août \nLe Tantra du Yoga Suprême est une méthode spéciale pour atteindre la pleine illumination en une courte vie. L’essence même du Tantra du Yoga Suprême se trouve dans les pratiques de Hérouka et de Vajrayogini. \nGuèn-la Kelsang Jampa accordera les Transmissions de Pouvoir de Hérouka et de Vajrayogini qui nous transmettent les bénédictions spéciales de ces Bouddhas. Il donnera ensuite des enseignements clairs et pratiques sur la manière d’entrer et de progresser sur cette voie rapide pleine de félicité vers l’illumination – le but ultime de notre vie humaine. \n\n\n\nAvec Guèn-la Kelsang Jampa GuGuèn-la Kelsang Jampa sera l’enseignant de la 2ème semaine du festival d’été 2026 ; il est le directeur spirituel général de la NTK-UIBK\, enseignant résident du CMK Mandjoushri et il est l’un des enseignants les plus expérimentés de la NTK. Guèn-la a été étudiant de Vénérable Guéshé Kelsang Gyatso pendant de nombreuses années\, et sous la direction de Guéshé-la\, il a enseigné dans de nombreux centres et lors de nombreux événements dans le monde. \nElGuèn-la est très apprécié pour ses enseignements clairs et inspirants\, ainsi que pour sa capacité à toucher le coeur des gens grâce à sa sincérité et sa bienveillance. \nGuèn-la Jampa sera assisté par des enseignants confirmés de la NTK qui guideront les méditations et la retraite pendant la deuxième semaine. \nAvec Guèn-la Kelsang Sangden GGuèn-la Kelsang Sangden sera l’enseignante de la 1re semaine du festival d’été 2026 ; elle est la directrice spirituelle adjointe de la NTK-UIBK\, directrice spirituelle nationale du bouddhisme kadampa au Méxique\, Colombie\, Nicaragua et Pérou\, et enseignante principale du CMK Mexico. \nGuèn-la est très aElle est admirée par beaucoup pour son bon exemple et ses conseils clairs et bienveillants. Elle a pratiqué et enseigné le bouddhisme kadampa pendant plus de 25 années. \nGuèn-la Sangden sera assistée par des enseignants confirmés de la NTK\, qui guideront les méditations et la retraite au cours de la 1re semaine.
URL:https://www.meditation-metz.org/evenement/festival-international-dete-avec-guen-la-dekyong-et-guen-la-jampa-en-angleterre/
LOCATION:Manjushri Kadampa Meditation Centre\, Conishead Priory\, Ulverston\, LA12 9QQ\, United Kingdom
CATEGORIES:Événement spécial,Festival national ou international
ATTACH;FMTTYPE=image/png:https://www.meditation-metz.org/wp-content/uploads/2025/05/Couv-FB-100.png
END:VEVENT
END:VCALENDAR