BEGIN:VCALENDAR
VERSION:2.0
PRODID:-//Centre de Méditation Kadampa Metz - ECPv6.15.20//NONSGML v1.0//EN
CALSCALE:GREGORIAN
METHOD:PUBLISH
X-ORIGINAL-URL:https://www.meditation-metz.org
X-WR-CALDESC:Évènements pour Centre de Méditation Kadampa Metz
REFRESH-INTERVAL;VALUE=DURATION:PT1H
X-Robots-Tag:noindex
X-PUBLISHED-TTL:PT1H
BEGIN:VTIMEZONE
TZID:UTC
BEGIN:STANDARD
TZOFFSETFROM:+0000
TZOFFSETTO:+0000
TZNAME:UTC
DTSTART:20250101T000000
END:STANDARD
END:VTIMEZONE
BEGIN:VEVENT
DTSTART;TZID=UTC:20260302T193000
DTEND;TZID=UTC:20260302T193000
DTSTAMP:20260424T220118
CREATED:20250105T215843Z
LAST-MODIFIED:20260203T191020Z
UID:6134-1772479800-1772479800@www.meditation-metz.org
SUMMARY:Conférence publique : Apaiser les relations toxiques
DESCRIPTION:En présentiel\nEn streaming sur YouTube avec le Pass méditation et le Pass streaming \nJe m’inscris en ligneJe m’inscris en ligneVous retrouvez-vous piégés dans des relations qui vous épuisent et vous étouffent ? Avez-vous sans cesse l’impression que vous avez fait quelque chose de mal que vous devez réparer pour apaiser la mauvaise humeur des autres ? \nCette conférence permettra de découvrir des conseils pour apprendre à poser nos limites\, retrouver notre liberté et transformer notre regard sur les autres. \nProfitez de ces soirées pour approfondir un thème et expérimenter les bienfaits de la méditation telle que nous la pratiquons dans notre école. Progressivement\, vous saurez repérer\, réduire et abandonner les états d’esprit stressants pour les remplacer par des états d’esprit paisibles et constructifs. \nNous commencerons avec une méditation guidée sur la respiration pour calmer l’esprit\, suivie de la conférence\, puis une méditation guidée sur le thème de la soirée et un questions réponses. \n Ceux qui le souhaitent peuvent rester discuter après la conférence autour d’une collation préparée par nos bénévoles. \nAvec l’enseignante principale\, Guèn Kelsang Konchog Enseignante expérimentée\, Guèn Kelsang Konchog est appréciée pour sa douceur et la clarté de ses enseignements\, les rendant accessibles à tous\, autant aux néophytes qu’aux méditants de longue date. \nElle enseigne l’atelier Sagesse et méditation les lundis soirs\, les événements du weekend\, le Programme de Fondation et le Programme de Formation des Enseignants. \nHoraires \n19h30 à 20h45\n\nParticipation suggérée \nParticipation suggérée : 10 € \n\n Personne n’est refusé pour manque d’argent.
URL:https://www.meditation-metz.org/evenement/conference-publique-amour-desir-et-dependance/
LOCATION:Centre de méditation Kadampa Metz\, 55 rue Jacques Chirac\, Metz\, 57000\, France
CATEGORIES:Conférence publique,Événement spécial
ATTACH;FMTTYPE=image/png:https://www.meditation-metz.org/wp-content/uploads/2025/01/Couv-apaiser-les-relations.png
END:VEVENT
BEGIN:VEVENT
DTSTART;TZID=UTC:20260314T110000
DTEND;TZID=UTC:20260315T161500
DTSTAMP:20260424T220118
CREATED:20240825T205517Z
LAST-MODIFIED:20260204T191945Z
UID:4077-1773486000-1773591300@www.meditation-metz.org
SUMMARY:Transmission des bénédictions de Tara Blanche
DESCRIPTION:En présentiel\nEn streaming sur YouTube avec le Pass méditation \nJe m’inscris en ligneJe m’inscris en ligne\n\nDevenir une lumière pour les autres\n  \nÉvénement phare du calendrier du CMK Metz\, ce week-end est une belle opportunité de se ressourcer et de faire le plein d'énergie positive. \nLe temps fort de ce week-end sera la cérémonie de transmission des bénédictions de Tara Blanche. \nDans un monde empli de tant de douleurs et de conflits\, où l'espoir peut-il encore se trouver ? Nous nous sentons parfois tellement impuissants et découragés devant la souffrance des autres. \nPourtant\, il y a tout au fond de nous un trésor à découvrir\, un héros ou une héroïne à révéler. C'est notre nature pure\, compatissante\, ou nature de bouddha. C'est notre capacité à aimer\, à célébrer la beauté en chacun\, et la force de s'élever au-dessus de nos réflexes humains de peur et de rejet de l'autre. C'est l'énergie qui nous pousse à devenir quelqu'un qui apaise la douleur\, fait naître des sourires et libère de toute peur. \nEn recevant la transmission de Tara Blanche\, nous recevons l'inspiration d'emprunter la voie d'un grand être\, ou bodhisattva\, la voie qui nous mènera à devenir un refuge pour nous et les autres. \nTout le monde est bienvenu\, bouddhiste ou non\, peu importe le niveau d'expérience. \n\n\nPourquoi venir à cet événement exceptionnel ? Qui est Tara blanche ?\nTara Blanche est un bouddha féminin\, pleinement éveillé\, dont la fonction est d’accorder une longue vie\, la sagesse et le mérite (ou bonne fortune). \nTara est aussi la manifestation de l’élément vent de tous les bouddhas\, c’est pourquoi nous pouvons recevoir ses bénédictions rapidement et\, en nous en remettant à elle avec foi nous pouvons recevoir rapidement sa protection contre les maladies\, les incendies et autres désastres. \nQu'est-ce qu'une transmission de bénédictions ? \nUne transmission de bénédictions (ou transmission de pouvoir) est une cérémonie rituelle au cours de laquelle\, à travers des méditations guidées\, nous recevons les bénédictions spéciales d’un Bouddha.\n  \nCes bénédictions guérissent notre esprit en profondeur\, nous inspirent au quotidien dans notre pratique spirituelle et nous aident à développer nos qualités de compassion et de sagesse.\n  \nRecevoir des bénédictions transforme notre esprit en activant nos potentiels de bonheur futur\, en soutenant la croissance de nos réalisations du dharma\, les enseignements de Bouddha\, et en amenant notre pratique du dharma à son accomplissement.\n  \nTout au long de notre cheminement spirituel\, il est très important de recevoir des bénédictions pour recevoir de l’énergie inspiratrice des êtres saints. De plus\, certaines pratiques bouddhistes nécessitent d’avoir reçu la transmission de bénédiction adéquate.\nOffrandes et ouvrages utilisés \n \nIl est possible d'apporter une offrande telle qu'une fleur\, bougie\, encens\, représentation de Bouddha … pour le jour de la cérémonie le samedi. Une table sera prévue à cet effet. \nLes Ouvrages utilisés : Yoga de Bouddha Vajrapani\, Requête au Saint Guide Spirituel. Ces livrets sont disponibles en version électronique sur le site des Éditions Tharpa ou directement au Centre. \n\nAvec l’enseignante principale\, Guèn Kelsang Konchog Enseignante expérimentée\, Guèn Kelsang Konchog est appréciée pour sa douceur et la clarté de ses enseignements\, les rendant accessibles à tous\, autant aux néophytes qu’aux méditants de longue date. \nElle enseigne l’atelier Sagesse et méditation les lundis soirs\, les événements du weekend\, le Programme de Fondation et le Programme de Formation des Enseignants. \nHoraires \n\n  \n\n\n\nSamedi 14 mars\nDimanche 15 mars\n\n\n\n\n\n\nCérémonie de Transmission des Bénédictions : 11h à 13h\nEnseignement : 15h à 16h30\n\n\nEnseignement et méditation guidée : \n\n10h à 11h15\n11h45 à 13h\n15h à 16h15\n\n\n\n\n\n\nParticipation suggérée Week-end complet en présentiel (5 séances) : 65 € (réduit* : 52 €)Week-end en streaming (sans la cérémonie de samedi 11h – 4 séances) : 43€ (réduit* : 35€) – Réservé aux membres Pass méditation et aux étudiants PF/PFE\nLe Samedi\, jour de la transmission de pouvoirs : 38 € (réduit* : 30 €)\n\nSéance de la transmission : 25 € \n\nSéance du cours d’enseignement : (samedi 15h) : 13€ \n\nLa journée de dimanche (3 séances) : 30€ (réduit*: 24€)
URL:https://www.meditation-metz.org/evenement/4077/
LOCATION:Centre de méditation Kadampa Metz\, 55 rue Jacques Chirac\, Metz\, 57000\, France
CATEGORIES:Transmission de bénédictions
ATTACH;FMTTYPE=image/png:https://www.meditation-metz.org/wp-content/uploads/2024/08/Couv-Tara-Blanche-2.png
END:VEVENT
BEGIN:VEVENT
DTSTART;TZID=UTC:20260328T143000
DTEND;TZID=UTC:20260328T173000
DTSTAMP:20260424T220118
CREATED:20251207T180545Z
LAST-MODIFIED:20260325T095718Z
UID:7410-1774708200-1774719000@www.meditation-metz.org
SUMMARY:Le pouvoir créateur de l'esprit
DESCRIPTION:En présentiel\nEn direct sur YouTube avec les Pass streaming et méditation \nJe m’inscris Je m’inscris Explorer le fonctionnement de la conscience est un voyage fascinant et plein d’espoir\, qui nous fait découvrir que rien n’est figé : parce que le monde n’existe qu’en relation avec l’esprit qui le perçoit\, nous avons le pouvoir de recréer notre réalité en développant de nouveaux états d’esprit. \nDurant cet atelier\, nous apprendrons comment impulser la création d’un monde et d’expériences nouvelles\, de plus en plus pures et belles. \nNous découvrirons en particulier l’art ancestral des offrandes de mandalas\, un entraînement mental méditatif qui nous aide à remodeler notre monde. Prêts pour ce voyage extraordinaire ? \nAvec Guèn Kelsang Konchog\, enseignante principale Enseignante expérimentée\, Guèn Kelsang Konchog est appréciée pour sa douceur et la clarté de ses enseignements\, les rendant accessibles à tous\, autant aux néophytes qu’aux méditants de longue date. \nElle enseigne l’atelier Sagesse et méditation les lundis soirs\, les événements du weekend\, le Programme de Fondation et le Programme de Formation des Enseignants. \nHoraires \nséance 1 : 14h30-15h45\nséance 2 : 16h15-17h30\n\nParticipation suggérée Demi-journée (2 séances) : Normale : 18 € / Réduit* : 14 € / PF-PFE et Pass méditation : Gratuit1 séance : Normale : 10€ / Réduit* : 8€ / PF-PFE et Pass méditation : Gratuit\n* Réduit : Etudiants\, demandeurs d’emploi\, faibles revenus. Personne n’est refusé pour manque d’argent.\n\nParticipation PF-PFE: Personne inscrite en présentiel au Programme de Fondamental ou au Programme de Formation des Enseignants.
URL:https://www.meditation-metz.org/evenement/le-pouvoir-createur-de-lesprit-apprendre-a-offrir-des-mandalas/
CATEGORIES:Demi-journée à thème,Week-end à thème
ATTACH;FMTTYPE=image/png:https://www.meditation-metz.org/wp-content/uploads/2026/02/Couv-pouvoir-createur.png
END:VEVENT
END:VCALENDAR